BEGIN:VCALENDAR
VERSION:2.0
PRODID:-//Unser Aschbach - ECPv6.15.20//NONSGML v1.0//EN
CALSCALE:GREGORIAN
METHOD:PUBLISH
X-ORIGINAL-URL:https://unser-aschbach.de
X-WR-CALDESC:Veranstaltungen für Unser Aschbach
REFRESH-INTERVAL;VALUE=DURATION:PT1H
X-Robots-Tag:noindex
X-PUBLISHED-TTL:PT1H
BEGIN:VTIMEZONE
TZID:Europe/Berlin
BEGIN:DAYLIGHT
TZOFFSETFROM:+0100
TZOFFSETTO:+0200
TZNAME:CEST
DTSTART:20240331T010000
END:DAYLIGHT
BEGIN:STANDARD
TZOFFSETFROM:+0200
TZOFFSETTO:+0100
TZNAME:CET
DTSTART:20241027T010000
END:STANDARD
BEGIN:DAYLIGHT
TZOFFSETFROM:+0100
TZOFFSETTO:+0200
TZNAME:CEST
DTSTART:20250330T010000
END:DAYLIGHT
BEGIN:STANDARD
TZOFFSETFROM:+0200
TZOFFSETTO:+0100
TZNAME:CET
DTSTART:20251026T010000
END:STANDARD
BEGIN:DAYLIGHT
TZOFFSETFROM:+0100
TZOFFSETTO:+0200
TZNAME:CEST
DTSTART:20260329T010000
END:DAYLIGHT
BEGIN:STANDARD
TZOFFSETFROM:+0200
TZOFFSETTO:+0100
TZNAME:CET
DTSTART:20261025T010000
END:STANDARD
END:VTIMEZONE
BEGIN:VEVENT
DTSTART;VALUE=DATE:20250402
DTEND;VALUE=DATE:20250414
DTSTAMP:20260420T160256
CREATED:20250109T100326Z
LAST-MODIFIED:20250109T100326Z
UID:5653-1743552000-1744588799@unser-aschbach.de
SUMMARY:Aufbau / Abbau Theaterverein
DESCRIPTION:
URL:https://unser-aschbach.de/event/aufbau-abbau-theaterverein/
LOCATION:Mehrzweckhalle\, In der Hauschied 1\, Lebach-Aschbach\, Saarland\, 66822\, Germany
END:VEVENT
BEGIN:VEVENT
DTSTART;TZID=Europe/Berlin:20250412T190000
DTEND;TZID=Europe/Berlin:20250412T230000
DTSTAMP:20260420T160256
CREATED:20250109T100600Z
LAST-MODIFIED:20250109T100600Z
UID:5655-1744484400-1744498800@unser-aschbach.de
SUMMARY:Theatervorstellung
DESCRIPTION:
URL:https://unser-aschbach.de/event/theatervorstellung/
LOCATION:Mehrzweckhalle\, In der Hauschied 1\, Lebach-Aschbach\, Saarland\, 66822\, Germany
END:VEVENT
BEGIN:VEVENT
DTSTART;TZID=Europe/Berlin:20250413T190000
DTEND;TZID=Europe/Berlin:20250413T230000
DTSTAMP:20260420T160256
CREATED:20250109T100701Z
LAST-MODIFIED:20250219T095828Z
UID:5657-1744570800-1744585200@unser-aschbach.de
SUMMARY:Theatervorstellung
DESCRIPTION:
URL:https://unser-aschbach.de/event/theatervorstellung-2/
LOCATION:Mehrzweckhalle\, In der Hauschied 1\, Lebach-Aschbach\, Saarland\, 66822\, Germany
END:VEVENT
BEGIN:VEVENT
DTSTART;TZID=Europe/Berlin:20250418T160000
DTEND;TZID=Europe/Berlin:20250418T220000
DTSTAMP:20260420T160256
CREATED:20250109T101439Z
LAST-MODIFIED:20250109T101439Z
UID:5659-1744992000-1745013600@unser-aschbach.de
SUMMARY:Bauerturnier
DESCRIPTION:
URL:https://unser-aschbach.de/event/bauerturnier/
LOCATION:Sportplatz\, Zur Homesmühle 998\, Lebach-Aschbach\, Saarland\, 66822\, Germany
ORGANIZER;CN="SV Victoria Aschbach":MAILTO:simon@aschbach.de
END:VEVENT
BEGIN:VEVENT
DTSTART;TZID=Europe/Berlin:20250418T160000
DTEND;TZID=Europe/Berlin:20250418T220000
DTSTAMP:20260420T160256
CREATED:20250109T101554Z
LAST-MODIFIED:20250109T101554Z
UID:5662-1744992000-1745013600@unser-aschbach.de
SUMMARY:Geräucherte Forelle
DESCRIPTION:
URL:https://unser-aschbach.de/event/geraeucherte-forelle/
LOCATION:Weiheranlage\, Zur Homesmühle 998\, Lebach-Aschbach\, Saarland\, 66822\, Germany
END:VEVENT
BEGIN:VEVENT
DTSTART;VALUE=DATE:20250427
DTEND;VALUE=DATE:20250428
DTSTAMP:20260420T160256
CREATED:20250109T101740Z
LAST-MODIFIED:20250413T120831Z
UID:5664-1745712000-1745798399@unser-aschbach.de
SUMMARY:Pflanzenmarkt
DESCRIPTION:
URL:https://unser-aschbach.de/event/pflanzenmarkt/
LOCATION:„Rund um de School“ – Vereinsräume\, Mehrzweckhalle\, Schulhof\, In der Hauschied 1\, Lebach-Aschbach\, Saarland\, 66822\, Germany
END:VEVENT
BEGIN:VEVENT
DTSTART;TZID=Europe/Berlin:20250430T180000
DTEND;TZID=Europe/Berlin:20250430T220000
DTSTAMP:20260420T160256
CREATED:20250109T102235Z
LAST-MODIFIED:20250109T102235Z
UID:5667-1746036000-1746050400@unser-aschbach.de
SUMMARY:Hexentanz
DESCRIPTION:
URL:https://unser-aschbach.de/event/hexentanz/
LOCATION:Feuerwehr-Gerätehaus\, In der Hauschied 3\, Lebach-Aschbach\, Saarland\, 66822\, Germany
ORGANIZER;CN="Feuerwehr":MAILTO:lb2@ff-lebach.de
END:VEVENT
END:VCALENDAR